Workbook

Sheet תלמידים
A1: רשימת תלמידים
A3: שם התלמיד/ה | B3: שם ההורה | C3: טלפון הורה | D3: קבוצה | E3: תאריך הצטרפות | F3: מחיר חודשי (₪) | G3: הערות

Sheet נוכחות
A1: מעקב נוכחות — סמנו ✓ או ✗
A2: שורת התלמידים נמשכת אוטומטית מגיליון "תלמידים". עמודות = מפגשים (מלאו תאריך בשורה 3).
A3: שם התלמיד/ה | B3: מפגש 1 | C3: מפגש 2 | D3: מפגש 3 | E3: מפגש 4 | F3: מפגש 5 | G3: מפגש 6 | H3: מפגש 7 | I3: מפגש 8 | J3: מפגש 9 | K3: מפגש 10 | L3: מפגש 11 | M3: מפגש 12 | N3: מפגש 13 | O3: מפגש 14 | P3: מפגש 15 | Q3: מפגש 16 | R3: מפגש 17 | S3: מפגש 18 | T3: מפגש 19 | U3: מפגש 20 | V3: מפגש 21 | W3: מפגש 22 | X3: מפגש 23 | Y3: מפגש 24 | Z3: מפגש 25 | AA3: מפגש 26 | AB3: מפגש 27 | AC3: מפגש 28 | AD3: מפגש 29 | AE3: מפגש 30 | AF3: מפגש 31 | AG3: מפגש 32 | AH3: מפגש 33 | AI3: מפגש 34 | AJ3: מפגש 35 | AK3: מפגש 36 | AL3: מפגש 37 | AM3: מפגש 38 | AN3: מפגש 39 | AO3: מפגש 40 | AP3: נוכחויות | AQ3: % נוכחות
A4: =IF(תלמידים!A4="","",תלמידים!A4) | AP4: =COUNTIF(B4:AO4,"✓") | AQ4: =IF(COUNTA(B4:AO4)=0,"",ROUND(COUNTIF(B4:AO4,"✓")/COUNTA(B4:AO4)*100,0)&"%")
A5: =IF(תלמידים!A5="","",תלמידים!A5) | AP5: =COUNTIF(B5:AO5,"✓") | AQ5: =IF(COUNTA(B5:AO5)=0,"",ROUND(COUNTIF(B5:AO5,"✓")/COUNTA(B5:AO5)*100,0)&"%")
A6: =IF(תלמידים!A6="","",תלמידים!A6) | AP6: =COUNTIF(B6:AO6,"✓") | AQ6: =IF(COUNTA(B6:AO6)=0,"",ROUND(COUNTIF(B6:AO6,"✓")/COUNTA(B6:AO6)*100,0)&"%")
A7: =IF(תלמידים!A7="","",תלמידים!A7) | AP7: =COUNTIF(B7:AO7,"✓") | AQ7: =IF(COUNTA(B7:AO7)=0,"",ROUND(COUNTIF(B7:AO7,"✓")/COUNTA(B7:AO7)*100,0)&"%")
A8: =IF(תלמידים!A8="","",תלמידים!A8) | AP8: =COUNTIF(B8:AO8,"✓") | AQ8: =IF(COUNTA(B8:AO8)=0,"",ROUND(COUNTIF(B8:AO8,"✓")/COUNTA(B8:AO8)*100,0)&"%")
A9: =IF(תלמידים!A9="","",תלמידים!A9) | AP9: =COUNTIF(B9:AO9,"✓") | AQ9: =IF(COUNTA(B9:AO9)=0,"",ROUND(COUNTIF(B9:AO9,"✓")/COUNTA(B9:AO9)*100,0)&"%")
A10: =IF(תלמידים!A10="","",תלמידים!A10) | AP10: =COUNTIF(B10:AO10,"✓") | AQ10: =IF(COUNTA(B10:AO10)=0,"",ROUND(COUNTIF(B10:AO10,"✓")/COUNTA(B10:AO10)*100,0)&"%")
A11: =IF(תלמידים!A11="","",תלמידים!A11) | AP11: =COUNTIF(B11:AO11,"✓") | AQ11: =IF(COUNTA(B11:AO11)=0,"",ROUND(COUNTIF(B11:AO11,"✓")/COUNTA(B11:AO11)*100,0)&"%")
A12: =IF(תלמידים!A12="","",תלמידים!A12) | AP12: =COUNTIF(B12:AO12,"✓") | AQ12: =IF(COUNTA(B12:AO12)=0,"",ROUND(COUNTIF(B12:AO12,"✓")/COUNTA(B12:AO12)*100,0)&"%")
A13: =IF(תלמידים!A13="","",תלמידים!A13) | AP13: =COUNTIF(B13:AO13,"✓") | AQ13: =IF(COUNTA(B13:AO13)=0,"",ROUND(COUNTIF(B13:AO13,"✓")/COUNTA(B13:AO13)*100,0)&"%")
A14: =IF(תלמידים!A14="","",תלמידים!A14) | AP14: =COUNTIF(B14:AO14,"✓") | AQ14: =IF(COUNTA(B14:AO14)=0,"",ROUND(COUNTIF(B14:AO14,"✓")/COUNTA(B14:AO14)*100,0)&"%")
A15: =IF(תלמידים!A15="","",תלמידים!A15) | AP15: =COUNTIF(B15:AO15,"✓") | AQ15: =IF(COUNTA(B15:AO15)=0,"",ROUND(COUNTIF(B15:AO15,"✓")/COUNTA(B15:AO15)*100,0)&"%")
... A43: =IF(תלמידים!A43="","",תלמידים!A43) | AP43: =COUNTIF(B43:AO43,"✓") | AQ43: =IF(COUNTA(B43:AO43)=0,"",ROUND(COUNTIF(B43:AO43,"✓")/COUNTA(B43:AO43)*100,0)&"%")

Sheet תשלומים
A1: מעקב תשלומים — הזינו סכום ששולם בכל חודש
A3: שם התלמיד/ה | B3: מחיר חודשי | C3: ספטמבר | D3: אוקטובר | E3: נובמבר | F3: דצמבר | G3: ינואר | H3: פברואר | I3: מרץ | J3: אפריל | K3: מאי | L3: יוני | M3: סה״כ שולם | N3: סה״כ צפוי | O3: יתרה
A4: =IF(תלמידים!A4="","",תלמידים!A4) | B4: =IF(תלמידים!F4="","",תלמידים!F4) | M4: =IF(A4="","",SUM(C4:L4)) | N4: =IF(OR(A4="",B4=""),"",B4*COUNTA(C$3:L$3)) | O4: =IF(OR(A4="",N4=""),"",N4-M4)
A5: =IF(תלמידים!A5="","",תלמידים!A5) | B5: =IF(תלמידים!F5="","",תלמידים!F5) | M5: =IF(A5="","",SUM(C5:L5)) | N5: =IF(OR(A5="",B5=""),"",B5*COUNTA(C$3:L$3)) | O5: =IF(OR(A5="",N5=""),"",N5-M5)
A6: =IF(תלמידים!A6="","",תלמידים!A6) | B6: =IF(תלמידים!F6="","",תלמידים!F6) | M6: =IF(A6="","",SUM(C6:L6)) | N6: =IF(OR(A6="",B6=""),"",B6*COUNTA(C$3:L$3)) | O6: =IF(OR(A6="",N6=""),"",N6-M6)
A7: =IF(תלמידים!A7="","",תלמידים!A7) | B7: =IF(תלמידים!F7="","",תלמידים!F7) | M7: =IF(A7="","",SUM(C7:L7)) | N7: =IF(OR(A7="",B7=""),"",B7*COUNTA(C$3:L$3)) | O7: =IF(OR(A7="",N7=""),"",N7-M7)
A8: =IF(תלמידים!A8="","",תלמידים!A8) | B8: =IF(תלמידים!F8="","",תלמידים!F8) | M8: =IF(A8="","",SUM(C8:L8)) | N8: =IF(OR(A8="",B8=""),"",B8*COUNTA(C$3:L$3)) | O8: =IF(OR(A8="",N8=""),"",N8-M8)
A9: =IF(תלמידים!A9="","",תלמידים!A9) | B9: =IF(תלמידים!F9="","",תלמידים!F9) | M9: =IF(A9="","",SUM(C9:L9)) | N9: =IF(OR(A9="",B9=""),"",B9*COUNTA(C$3:L$3)) | O9: =IF(OR(A9="",N9=""),"",N9-M9)
A10: =IF(תלמידים!A10="","",תלמידים!A10) | B10: =IF(תלמידים!F10="","",תלמידים!F10) | M10: =IF(A10="","",SUM(C10:L10)) | N10: =IF(OR(A10="",B10=""),"",B10*COUNTA(C$3:L$3)) | O10: =IF(OR(A10="",N10=""),"",N10-M10)
A11: =IF(תלמידים!A11="","",תלמידים!A11) | B11: =IF(תלמידים!F11="","",תלמידים!F11) | M11: =IF(A11="","",SUM(C11:L11)) | N11: =IF(OR(A11="",B11=""),"",B11*COUNTA(C$3:L$3)) | O11: =IF(OR(A11="",N11=""),"",N11-M11)
A12: =IF(תלמידים!A12="","",תלמידים!A12) | B12: =IF(תלמידים!F12="","",תלמידים!F12) | M12: =IF(A12="","",SUM(C12:L12)) | N12: =IF(OR(A12="",B12=""),"",B12*COUNTA(C$3:L$3)) | O12: =IF(OR(A12="",N12=""),"",N12-M12)
A13: =IF(תלמידים!A13="","",תלמידים!A13) | B13: =IF(תלמידים!F13="","",תלמידים!F13) | M13: =IF(A13="","",SUM(C13:L13)) | N13: =IF(OR(A13="",B13=""),"",B13*COUNTA(C$3:L$3)) | O13: =IF(OR(A13="",N13=""),"",N13-M13)
A14: =IF(תלמידים!A14="","",תלמידים!A14) | B14: =IF(תלמידים!F14="","",תלמידים!F14) | M14: =IF(A14="","",SUM(C14:L14)) | N14: =IF(OR(A14="",B14=""),"",B14*COUNTA(C$3:L$3)) | O14: =IF(OR(A14="",N14=""),"",N14-M14)
A15: =IF(תלמידים!A15="","",תלמידים!A15) | B15: =IF(תלמידים!F15="","",תלמידים!F15) | M15: =IF(A15="","",SUM(C15:L15)) | N15: =IF(OR(A15="",B15=""),"",B15*COUNTA(C$3:L$3)) | O15: =IF(OR(A15="",N15=""),"",N15-M15)
... A43: =IF(תלמידים!A43="","",תלמידים!A43) | B43: =IF(תלמידים!F43="","",תלמידים!F43) | M43: =IF(A43="","",SUM(C43:L43)) | N43: =IF(OR(A43="",B43=""),"",B43*COUNTA(C$3:L$3)) | O43: =IF(OR(A43="",N43=""),"",N43-M43)

Sheet קראו אותי
A2: תבנית ניהול חוג · zimnu.co.il
A4: איך משתמשים:
A5: 1. ממלאים את רשימת התלמידים בגיליון הראשון — השם והמחיר נמשכים אוטומטית לשאר הגיליונות.
A6: 2. בגיליון הנוכחות: תאריך לכל מפגש בשורת הכותרת, ואז ✓ או ✗ לכל תלמיד. האחוז מחושב לבד.
A7: 3. בגיליון התשלומים: מזינים את הסכום ששולם בכל חודש. היתרה מחושבת לבד.
A9: מה הקובץ הזה לא יעשה:
A10: הוא לא יגבה תשלום, לא יזכיר להורה ששכח, לא יעדכן את עצמו כשמישהי נרשמת,
A11: ולא יגיד להורים כמה נשאר בכרטיסייה. בשביל זה יש מערכת: zimnu.co.il — חינם עד 20 תלמידים.
